Package: mzR Version: 2.38.0 Command: /Library/Frameworks/R.framework/Resources/bin/R CMD check --install=check:mzR.install-out.txt --library=/Library/Frameworks/R.framework/Resources/library --no-vignettes --timings mzR_2.38.0.tar.gz StartedAt: 2024-10-18 05:43:45 -0400 (Fri, 18 Oct 2024) EndedAt: 2024-10-18 05:45:56 -0400 (Fri, 18 Oct 2024) EllapsedTime: 131.0 seconds RetCode: 0 Status: WARNINGS CheckDir: mzR.Rcheck Warnings: 2