Package: mzID Version: 1.42.0 Command: rm -rf mzID.buildbin-libdir && mkdir mzID.buildbin-libdir && /Users/biocbuild/BBS/utils/build-universal.sh mzID_1.42.0.tar.gz /Library/Frameworks/R.framework/Resources/bin/R mzID.buildbin-libdir StartedAt: 2024-10-18 19:42:05 -0400 (Fri, 18 Oct 2024) EndedAt: 2024-10-18 19:42:13 -0400 (Fri, 18 Oct 2024) EllapsedTime: 7.9 seconds RetCode: 0 Status: OK PackageFile: mzID_1.42.0.tgz PackageFileSize: 833.8 KiB