Package: myvariant Version: 1.34.0 Command: chmod a+r myvariant -R && E:\biocbuild\bbs-3.19-bioc\R\bin\R.exe CMD build --keep-empty-dirs --no-resave-data myvariant StartedAt: 2024-10-16 20:38:58 -0400 (Wed, 16 Oct 2024) EndedAt: 2024-10-16 20:40:12 -0400 (Wed, 16 Oct 2024) EllapsedTime: 73.7 seconds RetCode: 0 Status: OK PackageFile: myvariant_1.34.0.tar.gz PackageFileSize: 159.3 KiB