Package: myvariant Version: 1.34.0 Command: rm -rf myvariant.buildbin-libdir && mkdir myvariant.buildbin-libdir && E:\biocbuild\bbs-3.19-bioc\R\bin\R.exe CMD INSTALL --build --library=myvariant.buildbin-libdir myvariant_1.34.0.tar.gz StartedAt: 2024-10-17 08:14:26 -0400 (Thu, 17 Oct 2024) EndedAt: 2024-10-17 08:15:18 -0400 (Thu, 17 Oct 2024) EllapsedTime: 52.1 seconds RetCode: 0 Status: OK PackageFile: myvariant_1.34.0.zip PackageFileSize: 221.5 KiB