Package: myvariant Version: 1.34.0 Command: /home/biocbuild/bbs-3.19-bioc/R/bin/R CMD build --keep-empty-dirs --no-resave-data myvariant StartedAt: 2024-10-16 19:44:03 -0400 (Wed, 16 Oct 2024) EndedAt: 2024-10-16 19:45:08 -0400 (Wed, 16 Oct 2024) EllapsedTime: 65.3 seconds RetCode: 0 Status: OK PackageFile: myvariant_1.34.0.tar.gz PackageFileSize: 158.9 KiB