Package: myvariant Version: 1.34.0 Command: /Library/Frameworks/R.framework/Resources/bin/R CMD INSTALL myvariant StartedAt: 2024-10-16 16:00:28 -0400 (Wed, 16 Oct 2024) EndedAt: 2024-10-16 16:02:03 -0400 (Wed, 16 Oct 2024) EllapsedTime: 95.1 seconds RetCode: 0 Status: OK