Package: myvariant Version: 1.34.0 Command: /home/biocbuild/R/R-beta-2024-04-15_r86425/bin/R CMD INSTALL myvariant StartedAt: 2024-05-08 20:36:42 -0000 (Wed, 08 May 2024) EndedAt: 2024-05-08 20:37:39 -0000 (Wed, 08 May 2024) EllapsedTime: 57.0 seconds RetCode: 0 Status: OK