Package: myvariant Version: 1.34.0 Command: /Library/Frameworks/R.framework/Resources/bin/R CMD build --keep-empty-dirs --no-resave-data myvariant StartedAt: 2024-10-17 05:27:25 -0400 (Thu, 17 Oct 2024) EndedAt: 2024-10-17 05:28:49 -0400 (Thu, 17 Oct 2024) EllapsedTime: 84.8 seconds RetCode: 0 Status: OK PackageFile: myvariant_1.34.0.tar.gz PackageFileSize: 158.6 KiB