Package: mygene Version: 1.40.0 Command: rm -rf mygene.buildbin-libdir && mkdir mygene.buildbin-libdir && /Users/biocbuild/BBS/utils/build-universal.sh mygene_1.40.0.tar.gz /Library/Frameworks/R.framework/Resources/bin/R mygene.buildbin-libdir StartedAt: 2024-06-11 12:16:31 -0400 (Tue, 11 Jun 2024) EndedAt: 2024-06-11 12:18:25 -0400 (Tue, 11 Jun 2024) EllapsedTime: 114.6 seconds RetCode: 0 Status: OK PackageFile: mygene_1.40.0.tgz PackageFileSize: 222.1 KiB