Package: mygene Version: 1.40.0 Command: /Library/Frameworks/R.framework/Resources/bin/R CMD build --keep-empty-dirs --no-resave-data mygene StartedAt: 2024-10-17 05:27:06 -0400 (Thu, 17 Oct 2024) EndedAt: 2024-10-17 05:28:26 -0400 (Thu, 17 Oct 2024) EllapsedTime: 79.6 seconds RetCode: 0 Status: OK PackageFile: mygene_1.40.0.tar.gz PackageFileSize: 167 KiB