Package: musicatk Version: 1.14.1 Command: E:\biocbuild\bbs-3.19-bioc\R\bin\R.exe CMD INSTALL musicatk StartedAt: 2024-10-16 17:23:45 -0400 (Wed, 16 Oct 2024) EndedAt: 2024-10-16 17:24:54 -0400 (Wed, 16 Oct 2024) EllapsedTime: 68.2 seconds RetCode: 0 Status: OK