Package: musicatk Version: 1.14.1 Command: chmod a+r musicatk -R && E:\biocbuild\bbs-3.19-bioc\R\bin\R.exe CMD build --keep-empty-dirs --no-resave-data musicatk StartedAt: 2024-10-16 20:38:07 -0400 (Wed, 16 Oct 2024) EndedAt: 2024-10-16 20:41:38 -0400 (Wed, 16 Oct 2024) EllapsedTime: 211.7 seconds RetCode: 0 Status: OK PackageFile: musicatk_1.14.1.tar.gz PackageFileSize: 2.63 MiB