Package: musicatk Version: 1.14.0 Command: F:\biocbuild\bbs-3.19-bioc\R\bin\R.exe CMD INSTALL musicatk StartedAt: 2024-06-26 16:54:05 -0400 (Wed, 26 Jun 2024) EndedAt: 2024-06-26 16:55:09 -0400 (Wed, 26 Jun 2024) EllapsedTime: 64.2 seconds RetCode: 0 Status: OK