Package: musicatk Version: 1.14.1 Command: /home/biocbuild/bbs-3.19-bioc/R/bin/R CMD INSTALL musicatk StartedAt: 2024-10-16 16:47:19 -0400 (Wed, 16 Oct 2024) EndedAt: 2024-10-16 16:48:03 -0400 (Wed, 16 Oct 2024) EllapsedTime: 43.8 seconds RetCode: 0 Status: OK