Package: musicatk Version: 1.14.1 Command: /Library/Frameworks/R.framework/Resources/bin/R CMD INSTALL musicatk StartedAt: 2024-10-16 16:52:37 -0400 (Wed, 16 Oct 2024) EndedAt: 2024-10-16 16:54:12 -0400 (Wed, 16 Oct 2024) EllapsedTime: 95.2 seconds RetCode: 0 Status: OK