Package: musicatk Version: 1.14.1 Command: /Library/Frameworks/R.framework/Resources/bin/R CMD build --keep-empty-dirs --no-resave-data musicatk StartedAt: 2024-10-16 21:29:49 -0400 (Wed, 16 Oct 2024) EndedAt: 2024-10-16 21:35:09 -0400 (Wed, 16 Oct 2024) EllapsedTime: 319.9 seconds RetCode: 0 Status: OK PackageFile: musicatk_1.14.1.tar.gz PackageFileSize: 2.99 MiB