Package: musicatk Version: 1.14.1 Command: rm -rf musicatk.buildbin-libdir && mkdir musicatk.buildbin-libdir && /Users/biocbuild/BBS/utils/build-universal.sh musicatk_1.14.1.tar.gz /Library/Frameworks/R.framework/Resources/bin/R musicatk.buildbin-libdir StartedAt: 2024-10-17 16:42:32 -0400 (Thu, 17 Oct 2024) EndedAt: 2024-10-17 16:44:26 -0400 (Thu, 17 Oct 2024) EllapsedTime: 114.4 seconds RetCode: 0 Status: OK PackageFile: musicatk_1.14.1.tgz PackageFileSize: 3.882 MiB