Package: musicatk Version: 1.14.0 Command: rm -rf musicatk.buildbin-libdir && mkdir musicatk.buildbin-libdir && /Users/biocbuild/BBS/utils/build-universal.sh musicatk_1.14.0.tar.gz /Library/Frameworks/R.framework/Resources/bin/R musicatk.buildbin-libdir StartedAt: 2024-06-11 12:16:04 -0400 (Tue, 11 Jun 2024) EndedAt: 2024-06-11 12:17:35 -0400 (Tue, 11 Jun 2024) EllapsedTime: 90.5 seconds RetCode: 0 Status: OK PackageFile: musicatk_1.14.0.tgz PackageFileSize: 3.884 MiB