Package: muscle Version: 3.46.0 Command: chmod a+r muscle -R && E:\biocbuild\bbs-3.19-bioc\R\bin\R.exe CMD build --keep-empty-dirs --no-resave-data muscle StartedAt: 2024-10-16 20:37:47 -0400 (Wed, 16 Oct 2024) EndedAt: 2024-10-16 20:39:32 -0400 (Wed, 16 Oct 2024) EllapsedTime: 105.6 seconds RetCode: 0 Status: OK PackageFile: muscle_3.46.0.tar.gz PackageFileSize: 295.1 KiB