Package: muscle Version: 3.46.0 Command: rm -rf muscle.buildbin-libdir && mkdir muscle.buildbin-libdir && E:\biocbuild\bbs-3.19-bioc\R\bin\R.exe CMD INSTALL --build --library=muscle.buildbin-libdir muscle_3.46.0.tar.gz StartedAt: 2024-10-17 08:14:07 -0400 (Thu, 17 Oct 2024) EndedAt: 2024-10-17 08:16:02 -0400 (Thu, 17 Oct 2024) EllapsedTime: 115.1 seconds RetCode: 0 Status: OK PackageFile: muscle_3.46.0.zip PackageFileSize: 361.5 KiB