Package: muscle Version: 3.46.0 Command: F:\biocbuild\bbs-3.19-bioc\R\bin\R.exe CMD check --no-multiarch --install=check:muscle.install-out.txt --library=F:\biocbuild\bbs-3.19-bioc\R\library --no-vignettes --timings muscle_3.46.0.tar.gz StartedAt: 2024-06-27 04:05:19 -0400 (Thu, 27 Jun 2024) EndedAt: 2024-06-27 04:06:58 -0400 (Thu, 27 Jun 2024) EllapsedTime: 99.8 seconds RetCode: 0 Status: WARNINGS CheckDir: muscle.Rcheck Warnings: 1