Package: muscle Version: 3.46.0 Command: /home/biocbuild/bbs-3.19-bioc/R/bin/R CMD build --keep-empty-dirs --no-resave-data muscle StartedAt: 2024-10-16 19:43:43 -0400 (Wed, 16 Oct 2024) EndedAt: 2024-10-16 19:44:33 -0400 (Wed, 16 Oct 2024) EllapsedTime: 50.1 seconds RetCode: 0 Status: OK PackageFile: muscle_3.46.0.tar.gz PackageFileSize: 292.7 KiB