Package: muscle Version: 3.46.0 Command: /Library/Frameworks/R.framework/Resources/bin/R CMD check --install=check:muscle.install-out.txt --library=/Library/Frameworks/R.framework/Resources/library --no-vignettes --timings muscle_3.46.0.tar.gz StartedAt: 2024-06-09 21:49:38 -0400 (Sun, 09 Jun 2024) EndedAt: 2024-06-09 21:51:05 -0400 (Sun, 09 Jun 2024) EllapsedTime: 86.9 seconds RetCode: 0 Status: WARNINGS CheckDir: muscle.Rcheck Warnings: 2