Package: muscat Version: 1.18.0 Command: E:\biocbuild\bbs-3.19-bioc\R\bin\R.exe CMD INSTALL muscat StartedAt: 2024-10-16 17:11:58 -0400 (Wed, 16 Oct 2024) EndedAt: 2024-10-16 17:12:49 -0400 (Wed, 16 Oct 2024) EllapsedTime: 51.1 seconds RetCode: 0 Status: OK