Package: muscat Version: 1.18.0 Command: /Library/Frameworks/R.framework/Resources/bin/R CMD check --install=check:muscat.install-out.txt --library=/Library/Frameworks/R.framework/Resources/library --no-vignettes --timings muscat_1.18.0.tar.gz StartedAt: 2024-10-17 09:50:27 -0400 (Thu, 17 Oct 2024) EndedAt: 2024-10-17 10:07:41 -0400 (Thu, 17 Oct 2024) EllapsedTime: 1034.8 seconds RetCode: 0 Status: OK CheckDir: muscat.Rcheck Warnings: 0