Package: muscat Version: 1.18.0 Command: /Library/Frameworks/R.framework/Resources/bin/R CMD check --install=check:muscat.install-out.txt --library=/Library/Frameworks/R.framework/Resources/library --no-vignettes --timings muscat_1.18.0.tar.gz StartedAt: 2024-06-09 21:49:36 -0400 (Sun, 09 Jun 2024) EndedAt: 2024-06-09 21:56:48 -0400 (Sun, 09 Jun 2024) EllapsedTime: 431.8 seconds RetCode: 0 Status: OK CheckDir: muscat.Rcheck Warnings: 0