Package: muscat Version: 1.18.0 Command: /home/biocbuild/R/R-beta-2024-04-15_r86425/bin/R CMD check --install=check:muscat.install-out.txt --library=/home/biocbuild/R/R-beta-2024-04-15_r86425/site-library --no-vignettes --timings muscat_1.18.0.tar.gz StartedAt: 2024-05-09 09:55:59 -0000 (Thu, 09 May 2024) EndedAt: 2024-05-09 10:04:38 -0000 (Thu, 09 May 2024) EllapsedTime: 519.0 seconds RetCode: 0 Status: OK CheckDir: muscat.Rcheck Warnings: 0