Package: mumosa Version: 1.12.0 Command: chmod a+r mumosa -R && F:\biocbuild\bbs-3.19-bioc\R\bin\R.exe CMD build --keep-empty-dirs --no-resave-data mumosa StartedAt: 2024-06-26 20:23:50 -0400 (Wed, 26 Jun 2024) EndedAt: 2024-06-26 20:26:18 -0400 (Wed, 26 Jun 2024) EllapsedTime: 148.2 seconds RetCode: 0 Status: OK PackageFile: mumosa_1.12.0.tar.gz PackageFileSize: 420 KiB