Package: mumosa Version: 1.12.0 Command: /Library/Frameworks/R.framework/Resources/bin/R CMD check --install=check:mumosa.install-out.txt --library=/Library/Frameworks/R.framework/Resources/library --no-vignettes --timings mumosa_1.12.0.tar.gz StartedAt: 2024-06-09 21:49:12 -0400 (Sun, 09 Jun 2024) EndedAt: 2024-06-09 21:55:05 -0400 (Sun, 09 Jun 2024) EllapsedTime: 352.8 seconds RetCode: 0 Status: OK CheckDir: mumosa.Rcheck Warnings: 0