Package: mumosa Version: 1.12.0 Command: /Library/Frameworks/R.framework/Resources/bin/R CMD build --keep-empty-dirs --no-resave-data mumosa StartedAt: 2024-06-09 17:29:02 -0400 (Sun, 09 Jun 2024) EndedAt: 2024-06-09 17:30:56 -0400 (Sun, 09 Jun 2024) EllapsedTime: 114.9 seconds RetCode: 0 Status: OK PackageFile: mumosa_1.12.0.tar.gz PackageFileSize: 674.1 KiB