Package: mumosa Version: 1.12.0 Command: rm -rf mumosa.buildbin-libdir && mkdir mumosa.buildbin-libdir && /Users/biocbuild/BBS/utils/build-universal.sh mumosa_1.12.0.tar.gz /Library/Frameworks/R.framework/Resources/bin/R mumosa.buildbin-libdir StartedAt: 2024-06-10 00:29:23 -0400 (Mon, 10 Jun 2024) EndedAt: 2024-06-10 00:30:05 -0400 (Mon, 10 Jun 2024) EllapsedTime: 42.1 seconds RetCode: 0 Status: OK PackageFile: mumosa_1.12.0.tgz PackageFileSize: 743.1 KiB