Package: mumosa Version: 1.12.0 Command: rm -rf mumosa.buildbin-libdir && mkdir mumosa.buildbin-libdir && /Users/biocbuild/BBS/utils/build-universal.sh mumosa_1.12.0.tar.gz /Library/Frameworks/R.framework/Resources/bin/R mumosa.buildbin-libdir StartedAt: 2024-10-18 19:40:54 -0400 (Fri, 18 Oct 2024) EndedAt: 2024-10-18 19:41:33 -0400 (Fri, 18 Oct 2024) EllapsedTime: 39.4 seconds RetCode: 0 Status: OK PackageFile: mumosa_1.12.0.tgz PackageFileSize: 726.9 KiB