Package: multtest Version: 2.60.0 Command: chmod a+r multtest -R && E:\biocbuild\bbs-3.19-bioc\R\bin\R.exe CMD build --keep-empty-dirs --no-resave-data multtest StartedAt: 2024-10-16 20:37:09 -0400 (Wed, 16 Oct 2024) EndedAt: 2024-10-16 20:37:12 -0400 (Wed, 16 Oct 2024) EllapsedTime: 3.0 seconds RetCode: 0 Status: OK PackageFile: multtest_2.60.0.tar.gz PackageFileSize: 1.234 MiB