Package: multtest Version: 2.60.0 Command: /Library/Frameworks/R.framework/Resources/bin/R CMD INSTALL multtest StartedAt: 2024-10-16 16:24:14 -0400 (Wed, 16 Oct 2024) EndedAt: 2024-10-16 16:24:46 -0400 (Wed, 16 Oct 2024) EllapsedTime: 31.9 seconds RetCode: 0 Status: OK