Package: multtest Version: 2.60.0 Command: /Library/Frameworks/R.framework/Resources/bin/R CMD check --install=check:multtest.install-out.txt --library=/Library/Frameworks/R.framework/Resources/library --no-vignettes --timings multtest_2.60.0.tar.gz StartedAt: 2024-10-17 09:50:17 -0400 (Thu, 17 Oct 2024) EndedAt: 2024-10-17 09:53:32 -0400 (Thu, 17 Oct 2024) EllapsedTime: 195.3 seconds RetCode: 0 Status: WARNINGS CheckDir: multtest.Rcheck Warnings: 4