Package: multtest Version: 2.60.0 Command: /Library/Frameworks/R.framework/Resources/bin/R CMD build --keep-empty-dirs --no-resave-data multtest StartedAt: 2024-10-16 21:28:38 -0400 (Wed, 16 Oct 2024) EndedAt: 2024-10-16 21:28:41 -0400 (Wed, 16 Oct 2024) EllapsedTime: 3.1 seconds RetCode: 0 Status: OK PackageFile: multtest_2.60.0.tar.gz PackageFileSize: 1.235 MiB