Package: multtest Version: 2.60.0 Command: /Library/Frameworks/R.framework/Resources/bin/R CMD check --install=check:multtest.install-out.txt --library=/Library/Frameworks/R.framework/Resources/library --no-vignettes --timings multtest_2.60.0.tar.gz StartedAt: 2024-10-18 05:33:19 -0400 (Fri, 18 Oct 2024) EndedAt: 2024-10-18 05:34:43 -0400 (Fri, 18 Oct 2024) EllapsedTime: 84.7 seconds RetCode: 0 Status: WARNINGS CheckDir: multtest.Rcheck Warnings: 4