Package: multistateQTL Version: 1.0.0 Command: rm -rf multistateQTL.buildbin-libdir && mkdir multistateQTL.buildbin-libdir && E:\biocbuild\bbs-3.19-bioc\R\bin\R.exe CMD INSTALL --build --library=multistateQTL.buildbin-libdir multistateQTL_1.0.0.tar.gz StartedAt: 2024-10-17 08:13:47 -0400 (Thu, 17 Oct 2024) EndedAt: 2024-10-17 08:14:36 -0400 (Thu, 17 Oct 2024) EllapsedTime: 49.3 seconds RetCode: 0 Status: OK PackageFile: multistateQTL_1.0.0.zip PackageFileSize: 566.5 KiB