Package: multiscan Version: 1.64.0 Command: /Library/Frameworks/R.framework/Resources/bin/R CMD check --install=check:multiscan.install-out.txt --library=/Library/Frameworks/R.framework/Resources/library --no-vignettes --timings multiscan_1.64.0.tar.gz StartedAt: 2024-10-17 09:49:11 -0400 (Thu, 17 Oct 2024) EndedAt: 2024-10-17 09:50:27 -0400 (Thu, 17 Oct 2024) EllapsedTime: 75.8 seconds RetCode: 0 Status: OK CheckDir: multiscan.Rcheck Warnings: 0