Package: multiscan Version: 1.64.0 Command: rm -rf multiscan.buildbin-libdir && mkdir multiscan.buildbin-libdir && /Users/biocbuild/BBS/utils/build-universal.sh multiscan_1.64.0.tar.gz /Library/Frameworks/R.framework/Resources/bin/R multiscan.buildbin-libdir StartedAt: 2024-06-10 00:29:14 -0400 (Mon, 10 Jun 2024) EndedAt: 2024-06-10 00:29:22 -0400 (Mon, 10 Jun 2024) EllapsedTime: 7.9 seconds RetCode: 0 Status: OK PackageFile: multiscan_1.64.0.tgz PackageFileSize: 780.3 KiB