Package: multiscan Version: 1.64.0 Command: /Library/Frameworks/R.framework/Resources/bin/R CMD check --install=check:multiscan.install-out.txt --library=/Library/Frameworks/R.framework/Resources/library --no-vignettes --timings multiscan_1.64.0.tar.gz StartedAt: 2024-06-10 23:23:43 -0400 (Mon, 10 Jun 2024) EndedAt: 2024-06-10 23:24:45 -0400 (Mon, 10 Jun 2024) EllapsedTime: 62.1 seconds RetCode: 0 Status: OK CheckDir: multiscan.Rcheck Warnings: 0