Package: multiscan Version: 1.64.0 Command: /Library/Frameworks/R.framework/Resources/bin/R CMD build --keep-empty-dirs --no-resave-data multiscan StartedAt: 2024-06-10 01:25:10 -0400 (Mon, 10 Jun 2024) EndedAt: 2024-06-10 01:25:30 -0400 (Mon, 10 Jun 2024) EllapsedTime: 20.6 seconds RetCode: 0 Status: OK PackageFile: multiscan_1.64.0.tar.gz PackageFileSize: 750.5 KiB