Package: multicrispr Version: 1.14.0 Command: E:\biocbuild\bbs-3.19-bioc\R\bin\R.exe CMD INSTALL multicrispr StartedAt: 2024-10-16 16:47:01 -0400 (Wed, 16 Oct 2024) EndedAt: 2024-10-16 16:47:56 -0400 (Wed, 16 Oct 2024) EllapsedTime: 55.3 seconds RetCode: 0 Status: OK