Package: multicrispr Version: 1.14.0 Command: E:\biocbuild\bbs-3.19-bioc\R\bin\R.exe CMD check --no-multiarch --install=check:multicrispr.install-out.txt --library=E:\biocbuild\bbs-3.19-bioc\R\library --no-vignettes --timings multicrispr_1.14.0.tar.gz StartedAt: 2024-10-17 03:47:40 -0400 (Thu, 17 Oct 2024) EndedAt: 2024-10-17 03:55:58 -0400 (Thu, 17 Oct 2024) EllapsedTime: 497.6 seconds RetCode: 0 Status: OK CheckDir: multicrispr.Rcheck Warnings: 0