Package: multicrispr Version: 1.14.0 Command: /home/biocbuild/bbs-3.19-bioc/R/bin/R CMD check --install=check:multicrispr.install-out.txt --library=/home/biocbuild/bbs-3.19-bioc/R/site-library --timings multicrispr_1.14.0.tar.gz StartedAt: 2024-10-17 02:55:25 -0400 (Thu, 17 Oct 2024) EndedAt: 2024-10-17 03:02:38 -0400 (Thu, 17 Oct 2024) EllapsedTime: 433.2 seconds RetCode: 0 Status: OK CheckDir: multicrispr.Rcheck Warnings: 0