Package: multiWGCNA Version: 1.2.0 Command: rm -rf multiWGCNA.buildbin-libdir && mkdir multiWGCNA.buildbin-libdir && /Users/biocbuild/BBS/utils/build-universal.sh multiWGCNA_1.2.0.tar.gz /Library/Frameworks/R.framework/Resources/bin/R multiWGCNA.buildbin-libdir StartedAt: 2024-10-17 16:42:17 -0400 (Thu, 17 Oct 2024) EndedAt: 2024-10-17 16:43:38 -0400 (Thu, 17 Oct 2024) EllapsedTime: 81.5 seconds RetCode: 0 Status: OK PackageFile: multiWGCNA_1.2.0.tgz PackageFileSize: 3.826 MiB