Package: multiOmicsViz Version: 1.28.0 Command: E:\biocbuild\bbs-3.19-bioc\R\bin\R.exe CMD INSTALL multiOmicsViz StartedAt: 2024-10-16 16:25:28 -0400 (Wed, 16 Oct 2024) EndedAt: 2024-10-16 16:25:52 -0400 (Wed, 16 Oct 2024) EllapsedTime: 25.0 seconds RetCode: 0 Status: OK