Package: multiOmicsViz Version: 1.28.0 Command: chmod a+r multiOmicsViz -R && E:\biocbuild\bbs-3.19-bioc\R\bin\R.exe CMD build --keep-empty-dirs --no-resave-data multiOmicsViz StartedAt: 2024-10-16 20:36:38 -0400 (Wed, 16 Oct 2024) EndedAt: 2024-10-16 20:38:25 -0400 (Wed, 16 Oct 2024) EllapsedTime: 107.3 seconds RetCode: 0 Status: OK PackageFile: multiOmicsViz_1.28.0.tar.gz PackageFileSize: 2.849 MiB