Package: multiOmicsViz Version: 1.28.0 Command: /home/biocbuild/bbs-3.19-bioc/R/bin/R CMD check --install=check:multiOmicsViz.install-out.txt --library=/home/biocbuild/bbs-3.19-bioc/R/site-library --timings multiOmicsViz_1.28.0.tar.gz StartedAt: 2024-10-17 02:56:11 -0400 (Thu, 17 Oct 2024) EndedAt: 2024-10-17 02:59:15 -0400 (Thu, 17 Oct 2024) EllapsedTime: 184.4 seconds RetCode: 1 Status: ERROR CheckDir: multiOmicsViz.Rcheck Warnings: NA