Package: multiOmicsViz Version: 1.28.0 Command: rm -rf multiOmicsViz.buildbin-libdir && mkdir multiOmicsViz.buildbin-libdir && /Users/biocbuild/BBS/utils/build-universal.sh multiOmicsViz_1.28.0.tar.gz /Library/Frameworks/R.framework/Resources/bin/R multiOmicsViz.buildbin-libdir StartedAt: 2024-06-11 12:15:09 -0400 (Tue, 11 Jun 2024) EndedAt: 2024-06-11 12:15:49 -0400 (Tue, 11 Jun 2024) EllapsedTime: 39.7 seconds RetCode: 0 Status: OK PackageFile: multiOmicsViz_1.28.0.tgz PackageFileSize: 1.6 MiB